BEGIN:VCALENDAR
VERSION:2.0
PRODID:-//Waldorf - ECPv6.15.20//NONSGML v1.0//EN
CALSCALE:GREGORIAN
METHOD:PUBLISH
X-ORIGINAL-URL:https://www.waldorf.se
X-WR-CALDESC:Event under Waldorf
REFRESH-INTERVAL;VALUE=DURATION:PT1H
X-Robots-Tag:noindex
X-PUBLISHED-TTL:PT1H
BEGIN:VTIMEZONE
TZID:Europe/Stockholm
BEGIN:DAYLIGHT
TZOFFSETFROM:+0100
TZOFFSETTO:+0200
TZNAME:CEST
DTSTART:20180325T010000
END:DAYLIGHT
BEGIN:STANDARD
TZOFFSETFROM:+0200
TZOFFSETTO:+0100
TZNAME:CET
DTSTART:20181028T010000
END:STANDARD
BEGIN:DAYLIGHT
TZOFFSETFROM:+0100
TZOFFSETTO:+0200
TZNAME:CEST
DTSTART:20190331T010000
END:DAYLIGHT
BEGIN:STANDARD
TZOFFSETFROM:+0200
TZOFFSETTO:+0100
TZNAME:CET
DTSTART:20191027T010000
END:STANDARD
BEGIN:DAYLIGHT
TZOFFSETFROM:+0100
TZOFFSETTO:+0200
TZNAME:CEST
DTSTART:20200329T010000
END:DAYLIGHT
BEGIN:STANDARD
TZOFFSETFROM:+0200
TZOFFSETTO:+0100
TZNAME:CET
DTSTART:20201025T010000
END:STANDARD
END:VTIMEZONE
BEGIN:VEVENT
DTSTART;TZID=Europe/Stockholm:20190222T130000
DTEND;TZID=Europe/Stockholm:20190222T160000
DTSTAMP:20260424T205732
CREATED:20190201T120332Z
LAST-MODIFIED:20190201T120332Z
UID:14975-1550840400-1550851200@www.waldorf.se
SUMMARY:Nätverksträff för huvudmän och skolchefer i Göteborg 22 februari kl. 13.00 - 16.00
DESCRIPTION:Den 22 februari kl. 13.00 – 16.00 träffas huvudmän och skolchefer. \nPlats Studiefrämjandet på Falkgatan 7 i Göteborg. \nAnmäl er senast den 10 februari till Jessica Thorell
URL:https://www.waldorf.se/kalendarium/natverkstraff-for-huvudman-och-skolchefer-i-goteborg-22-februari-kl-13-00-16-00/
END:VEVENT
END:VCALENDAR