BEGIN:VCALENDAR
VERSION:2.0
PRODID:-//Waldorf - ECPv6.15.20//NONSGML v1.0//EN
CALSCALE:GREGORIAN
METHOD:PUBLISH
X-WR-CALNAME:Waldorf
X-ORIGINAL-URL:https://www.waldorf.se
X-WR-CALDESC:Event under Waldorf
REFRESH-INTERVAL;VALUE=DURATION:PT1H
X-Robots-Tag:noindex
X-PUBLISHED-TTL:PT1H
BEGIN:VTIMEZONE
TZID:Europe/Stockholm
BEGIN:DAYLIGHT
TZOFFSETFROM:+0100
TZOFFSETTO:+0200
TZNAME:CEST
DTSTART:20180325T010000
END:DAYLIGHT
BEGIN:STANDARD
TZOFFSETFROM:+0200
TZOFFSETTO:+0100
TZNAME:CET
DTSTART:20181028T010000
END:STANDARD
BEGIN:DAYLIGHT
TZOFFSETFROM:+0100
TZOFFSETTO:+0200
TZNAME:CEST
DTSTART:20190331T010000
END:DAYLIGHT
BEGIN:STANDARD
TZOFFSETFROM:+0200
TZOFFSETTO:+0100
TZNAME:CET
DTSTART:20191027T010000
END:STANDARD
BEGIN:DAYLIGHT
TZOFFSETFROM:+0100
TZOFFSETTO:+0200
TZNAME:CEST
DTSTART:20200329T010000
END:DAYLIGHT
BEGIN:STANDARD
TZOFFSETFROM:+0200
TZOFFSETTO:+0100
TZNAME:CET
DTSTART:20201025T010000
END:STANDARD
END:VTIMEZONE
BEGIN:VEVENT
DTSTART;TZID=Europe/Stockholm:20190304T100000
DTEND;TZID=Europe/Stockholm:20190304T160000
DTSTAMP:20260424T234034
CREATED:20190201T120141Z
LAST-MODIFIED:20190201T120141Z
UID:14973-1551693600-1551715200@www.waldorf.se
SUMMARY:Träff för huvudmän\, skolchefer och rektorer på WLH i Bromma\, Stockholm
DESCRIPTION:Den 4 mars föreläser Matz Nilsson för huvudmän\, skolchefer samt rektorer på WLH i Bromma i Stockholm.
URL:https://www.waldorf.se/kalendarium/traff-for-huvudman-skolchefer-och-rektorer-pa-wlh-i-bromma-stockholm/
LOCATION:Waldorflärarhögskolan\, Marklandsbacken Bromma\, Stockholm\, 11541
END:VEVENT
END:VCALENDAR