BEGIN:VCALENDAR
VERSION:2.0
PRODID:-//Waldorf - ECPv6.15.20//NONSGML v1.0//EN
CALSCALE:GREGORIAN
METHOD:PUBLISH
X-ORIGINAL-URL:https://www.waldorf.se
X-WR-CALDESC:Event under Waldorf
REFRESH-INTERVAL;VALUE=DURATION:PT1H
X-Robots-Tag:noindex
X-PUBLISHED-TTL:PT1H
BEGIN:VTIMEZONE
TZID:Europe/Stockholm
BEGIN:DAYLIGHT
TZOFFSETFROM:+0100
TZOFFSETTO:+0200
TZNAME:CEST
DTSTART:20180325T010000
END:DAYLIGHT
BEGIN:STANDARD
TZOFFSETFROM:+0200
TZOFFSETTO:+0100
TZNAME:CET
DTSTART:20181028T010000
END:STANDARD
BEGIN:DAYLIGHT
TZOFFSETFROM:+0100
TZOFFSETTO:+0200
TZNAME:CEST
DTSTART:20190331T010000
END:DAYLIGHT
BEGIN:STANDARD
TZOFFSETFROM:+0200
TZOFFSETTO:+0100
TZNAME:CET
DTSTART:20191027T010000
END:STANDARD
BEGIN:DAYLIGHT
TZOFFSETFROM:+0100
TZOFFSETTO:+0200
TZNAME:CEST
DTSTART:20200329T010000
END:DAYLIGHT
BEGIN:STANDARD
TZOFFSETFROM:+0200
TZOFFSETTO:+0100
TZNAME:CET
DTSTART:20201025T010000
END:STANDARD
END:VTIMEZONE
BEGIN:VEVENT
DTSTART;TZID=Europe/Stockholm:20190316T120000
DTEND;TZID=Europe/Stockholm:20190316T220000
DTSTAMP:20260425T052252
CREATED:20190201T120604Z
LAST-MODIFIED:20190201T120604Z
UID:14977-1552737600-1552773600@www.waldorf.se
SUMMARY:Teaterfestival i Bagarmossens Folkets hus 12.00 - 22.00
DESCRIPTION:Carlgrenska Waldorfgymnasiet\, Kristofferskolan\, Föreningen Sofia och Waldorfskolefederationen deltar i en teaterfestival i Bagarmossen i södra Stockholm.
URL:https://www.waldorf.se/kalendarium/teaterfestival-i-bagarmossens-folkets-hus-12-00-22-00/
END:VEVENT
END:VCALENDAR