BEGIN:VCALENDAR
VERSION:2.0
PRODID:-//Waldorf - ECPv6.15.20//NONSGML v1.0//EN
CALSCALE:GREGORIAN
METHOD:PUBLISH
X-WR-CALNAME:Waldorf
X-ORIGINAL-URL:https://www.waldorf.se
X-WR-CALDESC:Event under Waldorf
REFRESH-INTERVAL;VALUE=DURATION:PT1H
X-Robots-Tag:noindex
X-PUBLISHED-TTL:PT1H
BEGIN:VTIMEZONE
TZID:Europe/Stockholm
BEGIN:DAYLIGHT
TZOFFSETFROM:+0100
TZOFFSETTO:+0200
TZNAME:CEST
DTSTART:20180325T010000
END:DAYLIGHT
BEGIN:STANDARD
TZOFFSETFROM:+0200
TZOFFSETTO:+0100
TZNAME:CET
DTSTART:20181028T010000
END:STANDARD
BEGIN:DAYLIGHT
TZOFFSETFROM:+0100
TZOFFSETTO:+0200
TZNAME:CEST
DTSTART:20190331T010000
END:DAYLIGHT
BEGIN:STANDARD
TZOFFSETFROM:+0200
TZOFFSETTO:+0100
TZNAME:CET
DTSTART:20191027T010000
END:STANDARD
BEGIN:DAYLIGHT
TZOFFSETFROM:+0100
TZOFFSETTO:+0200
TZNAME:CEST
DTSTART:20200329T010000
END:DAYLIGHT
BEGIN:STANDARD
TZOFFSETFROM:+0200
TZOFFSETTO:+0100
TZNAME:CET
DTSTART:20201025T010000
END:STANDARD
END:VTIMEZONE
BEGIN:VEVENT
DTSTART;TZID=Europe/Stockholm:20190502T100000
DTEND;TZID=Europe/Stockholm:20190503T123000
DTSTAMP:20260426T013042
CREATED:20190201T121548Z
LAST-MODIFIED:20190201T121548Z
UID:14985-1556791200-1556886600@www.waldorf.se
SUMMARY:Waldorfskolefederationsmöte på Orionskolan i Visby 2-3 maj
DESCRIPTION:Den 2-3 maj är det Federationsmöte på Orionskolan i Visby. \nTemat kommer att vara framtidsvision samt vad skolor och förskolor bidrar med på Waldorf 100 eventet den 20-21 september på Norra Latin.
URL:https://www.waldorf.se/kalendarium/waldorfskolefederationsmote-pa-orionskolan-i-visby-2-3-maj/
END:VEVENT
END:VCALENDAR