BEGIN:VCALENDAR
VERSION:2.0
PRODID:-//Waldorf - ECPv6.15.20//NONSGML v1.0//EN
CALSCALE:GREGORIAN
METHOD:PUBLISH
X-WR-CALNAME:Waldorf
X-ORIGINAL-URL:https://www.waldorf.se
X-WR-CALDESC:Event under Waldorf
REFRESH-INTERVAL;VALUE=DURATION:PT1H
X-Robots-Tag:noindex
X-PUBLISHED-TTL:PT1H
BEGIN:VTIMEZONE
TZID:Europe/Stockholm
BEGIN:DAYLIGHT
TZOFFSETFROM:+0100
TZOFFSETTO:+0200
TZNAME:CEST
DTSTART:20180325T010000
END:DAYLIGHT
BEGIN:STANDARD
TZOFFSETFROM:+0200
TZOFFSETTO:+0100
TZNAME:CET
DTSTART:20181028T010000
END:STANDARD
BEGIN:DAYLIGHT
TZOFFSETFROM:+0100
TZOFFSETTO:+0200
TZNAME:CEST
DTSTART:20190331T010000
END:DAYLIGHT
BEGIN:STANDARD
TZOFFSETFROM:+0200
TZOFFSETTO:+0100
TZNAME:CET
DTSTART:20191027T010000
END:STANDARD
BEGIN:DAYLIGHT
TZOFFSETFROM:+0100
TZOFFSETTO:+0200
TZNAME:CEST
DTSTART:20200329T010000
END:DAYLIGHT
BEGIN:STANDARD
TZOFFSETFROM:+0200
TZOFFSETTO:+0100
TZNAME:CET
DTSTART:20201025T010000
END:STANDARD
END:VTIMEZONE
BEGIN:VEVENT
DTSTART;TZID=Europe/Stockholm:20190920T120000
DTEND;TZID=Europe/Stockholm:20190921T210000
DTSTAMP:20260426T062702
CREATED:20190201T121731Z
LAST-MODIFIED:20190201T121731Z
UID:14987-1568980800-1569099600@www.waldorf.se
SUMMARY:Waldorf 100 - Learn to change the world. City Center Conference/Norra Latin 20-21 september
DESCRIPTION:Välkomna till City Center Conference/Norra Latin den 20 – 21 september. Preliminärt schema för båda dagarna hittar ni under inlägg på startsidan på waldorf.se
URL:https://www.waldorf.se/kalendarium/waldorf-100-learn-to-change-the-world-tva-dagars-firande-pa-norra-latin-i-stockholm/
END:VEVENT
END:VCALENDAR