BEGIN:VCALENDAR
VERSION:2.0
PRODID:-//Waldorf - ECPv6.15.20//NONSGML v1.0//EN
CALSCALE:GREGORIAN
METHOD:PUBLISH
X-WR-CALNAME:Waldorf
X-ORIGINAL-URL:https://www.waldorf.se
X-WR-CALDESC:Event under Waldorf
REFRESH-INTERVAL;VALUE=DURATION:PT1H
X-Robots-Tag:noindex
X-PUBLISHED-TTL:PT1H
BEGIN:VTIMEZONE
TZID:Europe/Stockholm
BEGIN:DAYLIGHT
TZOFFSETFROM:+0100
TZOFFSETTO:+0200
TZNAME:CEST
DTSTART:20210328T010000
END:DAYLIGHT
BEGIN:STANDARD
TZOFFSETFROM:+0200
TZOFFSETTO:+0100
TZNAME:CET
DTSTART:20211031T010000
END:STANDARD
BEGIN:DAYLIGHT
TZOFFSETFROM:+0100
TZOFFSETTO:+0200
TZNAME:CEST
DTSTART:20220327T010000
END:DAYLIGHT
BEGIN:STANDARD
TZOFFSETFROM:+0200
TZOFFSETTO:+0100
TZNAME:CET
DTSTART:20221030T010000
END:STANDARD
BEGIN:DAYLIGHT
TZOFFSETFROM:+0100
TZOFFSETTO:+0200
TZNAME:CEST
DTSTART:20230326T010000
END:DAYLIGHT
BEGIN:STANDARD
TZOFFSETFROM:+0200
TZOFFSETTO:+0100
TZNAME:CET
DTSTART:20231029T010000
END:STANDARD
END:VTIMEZONE
BEGIN:VEVENT
DTSTART;TZID=Europe/Stockholm:20220215T090000
DTEND;TZID=Europe/Stockholm:20220215T113000
DTSTAMP:20260423T144839
CREATED:20211020T192403Z
LAST-MODIFIED:20211020T192403Z
UID:16226-1644915600-1644924600@www.waldorf.se
SUMMARY:Digitalt nätverksmöte för fritidshemmen
DESCRIPTION:Den 15 februari är det dags för ännu ett digitalt nätverksmöte för fritidshemmen. \nAnmälan görs senast den 14 februari.
URL:https://www.waldorf.se/kalendarium/digitalt-natverksmote-for-fritidshemmen/
END:VEVENT
END:VCALENDAR