BEGIN:VCALENDAR
VERSION:2.0
PRODID:-//Waldorf - ECPv6.15.20//NONSGML v1.0//EN
CALSCALE:GREGORIAN
METHOD:PUBLISH
X-ORIGINAL-URL:https://www.waldorf.se
X-WR-CALDESC:Event under Waldorf
REFRESH-INTERVAL;VALUE=DURATION:PT1H
X-Robots-Tag:noindex
X-PUBLISHED-TTL:PT1H
BEGIN:VTIMEZONE
TZID:Europe/Stockholm
BEGIN:DAYLIGHT
TZOFFSETFROM:+0100
TZOFFSETTO:+0200
TZNAME:CEST
DTSTART:20210328T010000
END:DAYLIGHT
BEGIN:STANDARD
TZOFFSETFROM:+0200
TZOFFSETTO:+0100
TZNAME:CET
DTSTART:20211031T010000
END:STANDARD
BEGIN:DAYLIGHT
TZOFFSETFROM:+0100
TZOFFSETTO:+0200
TZNAME:CEST
DTSTART:20220327T010000
END:DAYLIGHT
BEGIN:STANDARD
TZOFFSETFROM:+0200
TZOFFSETTO:+0100
TZNAME:CET
DTSTART:20221030T010000
END:STANDARD
BEGIN:DAYLIGHT
TZOFFSETFROM:+0100
TZOFFSETTO:+0200
TZNAME:CEST
DTSTART:20230326T010000
END:DAYLIGHT
BEGIN:STANDARD
TZOFFSETFROM:+0200
TZOFFSETTO:+0100
TZNAME:CET
DTSTART:20231029T010000
END:STANDARD
END:VTIMEZONE
BEGIN:VEVENT
DTSTART;TZID=Europe/Stockholm:20220322T090000
DTEND;TZID=Europe/Stockholm:20220322T120000
DTSTAMP:20260423T231554
CREATED:20220203T220415Z
LAST-MODIFIED:20220203T220415Z
UID:16720-1647939600-1647950400@www.waldorf.se
SUMMARY:Rektorsmöte för WSF:s medlemsskolor 22 mars 09.00-12.00
DESCRIPTION:Den 22 mars är det dags för rektorsmöte för WSF:s medlemsskolor. \nSammankallande till mötet är Lena Olds och Pia Forsberg. \nAnmälan görs till sekretariatet senast den 21 mars.
URL:https://www.waldorf.se/kalendarium/rektorsmote-for-wsfs-medlemsskolor-22-mars-09-00-12-00/
END:VEVENT
END:VCALENDAR